BEGIN:VCALENDAR
VERSION:2.0
PRODID:-//hacksw/handcal//NONSGML v1.0//EN
BEGIN:VEVENT
DTSTAMP:20260414T163000Z
DTSTART:20260414T163000Z
DTEND:20260414T163000Z
LOCATION:Förderzentrum Steinburg-Nordost - Sitzungszimmer, Birkenallee 11, Hohenlockstedt, 25551, Deutschland
SUMMARY:Sitzung der Verbandsversammlung des Schulverbandes Hohenlockstedt
END:VEVENT
END:VCALENDAR
